BEGIN:VCALENDAR
VERSION:2.0
PRODID:icalendar-ruby
CALSCALE:GREGORIAN
METHOD:PUBLISH
BEGIN:VEVENT
DTSTAMP:20260423T181341Z
UID:5-488577@wintonchurch.org
DTSTART:20261025T173000Z
DTEND:20261025T183000Z
CLASS:PUBLIC
CREATED:20260423T111253
DESCRIPTION:Sunday Worship
LAST-MODIFIED:20260423T111253
LOCATION:
SUMMARY:Sunday Worship
URL;VALUE=URI:https://www.wintonchurch.org/events/sunday-worship/2026-10-25
END:VEVENT
END:VCALENDAR
