BEGIN:VCALENDAR
VERSION:2.0
PRODID:icalendar-ruby
CALSCALE:GREGORIAN
METHOD:PUBLISH
BEGIN:VEVENT
DTSTAMP:20260423T212351Z
UID:41-488314@wintonchurch.org
DTSTART:20260512T170000Z
DTEND:20260512T180000Z
CLASS:PUBLIC
CREATED:20260423T104321
DESCRIPTION:Grab your flashlight and get ready for a musical adventure!\nTh
 e Winton First Baptist Church Children's Choir presents Psalty's Camping A
 dventure- a lively\, joy-filled show packed with fun songs\, big smiles\,
  and whole lot of heart. Join Psalty and friends as they head into the gre
 at outdoors for a night of faith\, friendship\, and unforgettable fun. It'
 s the perfect event for the whole family. You don't want to miss it!
LAST-MODIFIED:20260423T104321
LOCATION:Winton First Baptist Church
SUMMARY:Psalty's Camping Adventure
URL;VALUE=URI:https://www.wintonchurch.org/events/psaltys-camping-adventure
 /2026-05-12
ATTACH;FILENAME=Untitled-1500-x-784-px.png;FMTTYPE=image/png:https://dq5pwp
 g1q8ru0.cloudfront.net/2026/04/23/17/43/21/3009e1ae-c107-4054-8b0f-ce47df4
 08e3c/Untitled-1500-x-784-px.png
END:VEVENT
END:VCALENDAR
