BEGIN:VCALENDAR
VERSION:2.0
PRODID:icalendar-ruby
CALSCALE:GREGORIAN
METHOD:PUBLISH
BEGIN:VEVENT
DTSTAMP:20260423T212507Z
UID:42-488317@wintonchurch.org
DTSTART;VALUE=DATE:20260510
DTEND;VALUE=DATE:20260510
CLASS:PUBLIC
CREATED:20260423T110840
DESCRIPTION:Join us for a Mother's Day continental breakfast as we celebrat
 e the amazing women who mean so much to us!\nBring your mom\, grandma\, au
 nt\, and the whole family\, for a morning filled with fresh breakfast favo
 rites\, laughter\, and time well spent together. Come enjoy great food\, w
 arm fellowship\, and a chance to honor the special women in your life!
LAST-MODIFIED:20260423T110840
LOCATION:Winton First Baptist Church Fellowship Hall
SUMMARY:Mother's Day Continental Breakfast
URL;VALUE=URI:https://www.wintonchurch.org/events/mothers-day-continental-b
 reakfast/2026-05-10
ATTACH;FILENAME=website.png;FMTTYPE=image/png:https://dq5pwpg1q8ru0.cloudfr
 ont.net/2026/04/23/18/08/40/3d82426c-e28e-438a-83fc-87e3480a29c1/website.p
 ng
END:VEVENT
END:VCALENDAR
